BEGIN:VCALENDAR
VERSION:2.0
CALSCALE:GREGORIAN
PRODID:adamgibbons/ics
METHOD:PUBLISH
X-PUBLISHED-TTL:PT1H
BEGIN:VEVENT
UID:5937@lapunta.org
SUMMARY:𝐎𝐏𝐄𝐑𝐀𝐈𝐀\, 𝐋𝐈𝐁𝐄𝐑𝐀\, 𝐀𝐍𝐓𝐈𝐅𝐀𝐒𝐂𝐈𝐒𝐓𝐀: 7 𝑴𝑨𝑹𝒁𝑶 𝑨 𝑷𝑹𝑨𝑻𝑶 𝑴𝑨𝑵𝑰𝑭𝑬𝑺𝑻𝑨𝒁𝑰𝑶𝑵𝑬 𝑪𝑶𝑵
	𝑻𝑹𝑶 𝑳𝑬 𝑫𝑬𝑷𝑶𝑹𝑻𝑨𝒁𝑰𝑶𝑵𝑰
DTSTAMP:20260421T082054Z
DTSTART:20260307T143000Z
DTEND:20260307T180000Z
DESCRIPTION:𝐎𝐏𝐄𝐑𝐀𝐈𝐀\, 𝐋𝐈𝐁𝐄𝐑𝐀\, 𝐀𝐍𝐓𝐈𝐅𝐀𝐒𝐂𝐈𝐒𝐓𝐀: 7 𝑴𝑨𝑹𝒁𝑶 𝑨\n𝑷𝑹𝑨𝑻𝑶 𝑴𝑨𝑵𝑰𝑭𝑬𝑺𝑻𝑨𝒁𝑰𝑶𝑵
	𝑬 𝑪𝑶𝑵𝑻𝑹𝑶 𝑳𝑬\n𝑫𝑬𝑷𝑶𝑹𝑻𝑨𝒁𝑰𝑶𝑵𝑰\n\nPerché Remigrazione vuol dire deportazione.\n
	\nPerché ogni attacco contro "gli stranieri" è solo un modo per attaccare 
	tutti i\nlavoratori e le lavoratrici.\n\nPerché la classe lavoratrice oggi
	 è multinazionale e la vogliono impaurita\,\nricattata\, divisa.\n\nPerché
	 la paura della deportazione serve a difendere lo sfruttamento.\n\nPerché 
	l’unica vera lotta allo sfruttamento è quella che fanno fianco a fianco\nl
	avoratrici e lavoratori di tutte le nazionalità.\n\nPerché Prato già nel 1
	944 ha conosciuto le deportazioni fasciste. Era il 7\nmarzo. Erano operai.
	 Erano italiani. Erano colpevoli di sciopero.\n\nPerché chi dice "mandiamo
	li a casa loro" sono gli stessi che "a casa loro"\nbombardano\, sfruttano 
	persone e saccheggiano risorse.\n\nPerché Prato è città di immigrati. È ci
	ttà operaia. Quindi è\, e rimarrà\, città\nantifascista.
URL:https://lapunta.org/event/prato-operaia-no-remigrazione
LOCATION:Prato Piazza Duomo - piazza Duomo
STATUS:CONFIRMED
CATEGORIES:
X-ALT-DESC;FMTTYPE=text/html:<p>𝐎𝐏𝐄𝐑𝐀𝐈𝐀, 𝐋𝐈𝐁𝐄𝐑𝐀, 𝐀𝐍𝐓𝐈𝐅𝐀𝐒𝐂𝐈𝐒𝐓𝐀: 7 𝑴𝑨𝑹𝒁𝑶 𝑨 𝑷𝑹
	𝑨𝑻𝑶 𝑴𝑨𝑵𝑰𝑭𝑬𝑺𝑻𝑨𝒁𝑰𝑶𝑵𝑬 𝑪𝑶𝑵𝑻𝑹𝑶 𝑳𝑬 𝑫𝑬𝑷𝑶𝑹𝑻𝑨𝒁𝑰𝑶𝑵𝑰</p><p>Perché Remigrazione vuol d
	ire deportazione.</p><p>Perché ogni attacco contro "gli stranieri" è solo 
	un modo per attaccare tutti i lavoratori e le lavoratrici.</p><p>Perché la
	 classe lavoratrice oggi è multinazionale e la vogliono impaurita, ricatta
	ta, divisa.</p><p>Perché la paura della deportazione serve a difendere lo 
	sfruttamento.</p><p>Perché l’unica vera lotta allo sfruttamento è quella c
	he fanno fianco a fianco lavoratrici e lavoratori di tutte le nazionalità.
	</p><p>Perché Prato già nel 1944 ha conosciuto le deportazioni fasciste. E
	ra il 7 marzo. Erano operai. Erano italiani. Erano colpevoli di sciopero.<
	/p><p>Perché chi dice "mandiamoli a casa loro" sono gli stessi che "a casa
	 loro" bombardano, sfruttano persone e saccheggiano risorse.</p><p>Perché 
	Prato è città di immigrati. È città operaia. Quindi è, e rimarrà, città an
	tifascista.</p>
END:VEVENT
END:VCALENDAR
